BEGIN:VCALENDAR
VERSION:2.0
PRODID:-//Объединение гештальт-терапевтов г.Перми - ECPv5.16.4//NONSGML v1.0//EN
CALSCALE:GREGORIAN
METHOD:PUBLISH
X-WR-CALNAME:Объединение гештальт-терапевтов г.Перми
X-ORIGINAL-URL:https://gestalt-perm.ru
X-WR-CALDESC:Мероприятия для Объединение гештальт-терапевтов г.Перми
BEGIN:VTIMEZONE
TZID:Asia/Karachi
BEGIN:STANDARD
TZOFFSETFROM:+0500
TZOFFSETTO:+0500
TZNAME:PKT
DTSTART:20210101T000000
END:STANDARD
END:VTIMEZONE
BEGIN:VEVENT
DTSTART;TZID=Asia/Karachi:20210925T110000
DTEND;TZID=Asia/Karachi:20210925T190000
DTSTAMP:20260421T131928
CREATED:20210910T074107Z
LAST-MODIFIED:20210910T074153Z
UID:3271-1632567600-1632596400@gestalt-perm.ru
SUMMARY:Телесное ориентирование в гештальт подходе.
DESCRIPTION:Авторский курс «Телесное ориентирование в гештальт подходе»\nНаше тело — самый честный и правдивый друг. К сожалению мы редко замечаем и прислушиваемся к тому\, что оно хотело бы нам сказать. По большей части\, нас воспитывали в стыде и страхе собственного тела\, тем самым разрывая с ним связь. Со временем мы обрастаем блоками и зажимами\, которые панцирем сковывают наше естество. Мы приучены игнорировать болезни и боли в теле. И имеем достаточно расплывчатую картину о том какое оно.\nВ реальности Тело это тонкий и живой инструмент помогающий нам распознавать свои чувства\, выставлять границы и чувствовать жизнь. \nМы приглашаем на наш спецкурс тех\, кто хочет лучше почувствовать своё тело\, осознать его истинные потребности\, освободить годами сдерживаемые чувства: \n— Мы будем исследовать и учиться понимать язык\, на котором тело с нами общается.\n— Рассмотрим какое у нас тело\, какие части тела мы игнорируем\, какой наш истинный размер.\n— Будем замечать какими чувствами наполнено наше тело\, и где они в нем живут.\n— Будем учиться замечать и любить себя! \nМы постарались максимально охватить все направления — гештальт\, телесно-ориентированная терапия\, бодинамика\, соматика. Поэтому курс насыщенный и глубокий. Подойдет тем кто работает с людьми\, взаимодействует с ними\, а так же тем кто хочет лучше узнать себя. \nДля меня\, самое ценное в работе с телом — усиливающаяся чувствительность к себе и к другим\, обнаружение своих желаний\, опора и устойчивость.\nВ течении курса будем знакомиться со своей телесностью\, ощущениями\, чувствами\, пробовать различать тонкие нюансы и доверять им. Исследуем сенсорные системы организма\, психосоматику\, травматический опыт (как физический\, так и психологический). Будем учиться двигаться комфортно в собственном темпе. \nВстречи раз в месяц по 8 часов. Суббота с 11 — 19 по адресу : ул. Максима Горького\, 60 «Выручай комната». Продолжительность 1 года — 10 встреч. \nПервая встреча — 25.09.21.\nСтудентам засчитываются часы групповой терапии в зачетку. \nВедущие:\nЕкатерина Шарова (психолог\, гештальт-терапевт)\nНаталья Денисова (психолог\, гештальт-терапевт) \nСтоимость 4000р. за встречу. Запись по 100% предоплате последней встречи. При оплате всего курса сразу — 10 встреч — 30 т.р.\, стоимость встречи 3000р.
URL:https://gestalt-perm.ru/event/telesnoe-orientirovanie-v-geshtalt-podhode/
LOCATION:«Выручай комната»\, Максима Горького\, 60\, Пермь\, Пермский край\, 614000\, Российская Федерация
CATEGORIES:Авторский курс
ATTACH;FMTTYPE=image/jpeg:https://gestalt-perm.ru/wp-content/uploads/2021/09/teleska121.jpg
ORGANIZER;CN="%D0%94%D0%B5%D0%BD%D0%B8%D1%81%D0%BE%D0%B2%D0%B0%20%D0%9D%D0%B0%D1%82%D0%B0%D0%BB%D1%8C%D1%8F":MAILTO:geshtaltperm@gmail.com
END:VEVENT
END:VCALENDAR