BEGIN:VCALENDAR
VERSION:2.0
PRODID:-//Объединение гештальт-терапевтов г.Перми - ECPv5.16.4//NONSGML v1.0//EN
CALSCALE:GREGORIAN
METHOD:PUBLISH
X-WR-CALNAME:Объединение гештальт-терапевтов г.Перми
X-ORIGINAL-URL:https://gestalt-perm.ru
X-WR-CALDESC:Мероприятия для Объединение гештальт-терапевтов г.Перми
BEGIN:VTIMEZONE
TZID:Asia/Karachi
BEGIN:STANDARD
TZOFFSETFROM:+0500
TZOFFSETTO:+0500
TZNAME:PKT
DTSTART:20210101T000000
END:STANDARD
END:VTIMEZONE
BEGIN:VEVENT
DTSTART;TZID=Asia/Karachi:20211009T110000
DTEND;TZID=Asia/Karachi:20211009T190000
DTSTAMP:20260421T132140
CREATED:20210910T074830Z
LAST-MODIFIED:20210910T074912Z
UID:3272-1633777200-1633806000@gestalt-perm.ru
SUMMARY:Исследование сексуальности. Гештальт подход.
DESCRIPTION:Приглашаем вас исследовать свою сексуальность\, через философию гештальт подхода\, на телесном\, чувстенном\, когнитивном\, поведенческом и экзистенциальном уровнях.\nВ программе эксперименты\, лекции\, сессии\, погружение в фантазии\, беседы. За годы практики и обучения у нас накопилось много материала и появилась потребность делиться с вами. \nМы проведём 5 тематических встреч:\n1. Биологические и психологические аспекты сексуальности. Основные понятия.\n2. Формирование сексуальности в онтогенезе.\n3. Сексуальные отношения в паре.\n4. Исследование границ собственной сексуальности.\n5. Архетипические игры и образы сексуальности. \nПервая встреча — 09.10.21\nНаличие индивидуальной терапии во время прохождения курса приветствуется.\nЧасы группы студентам МГИ в зачёт не идут\, мотивацией для участия является ваш личный и профессиональный интерес к проявлениям сексуальности в жизни и терапии. \nВедущие:\nЕкатерина Шарова (психолог\, гештальт-терапевт)\nНаталья Денисова (психолог\, гештальт-терапевт) \nПо адресу: ул. Максим Горького\, 60\, «Выручай комната»\nВстречи раз в три\, четыре недели по субботам с 11.00 — 19.00.\nПродолжительность 5 встреч.\nСтоимость 4000р. за встречу. Запись по 100% предоплате последней встречи. При оплате всего курса сразу\, скидка — 5 встреч — 18 т.р.
URL:https://gestalt-perm.ru/event/issledovanie-seksualnosti-geshtalt-podhod/
LOCATION:«Выручай комната»\, Максима Горького\, 60\, Пермь\, Пермский край\, 614000\, Российская Федерация
CATEGORIES:Авторский курс
ATTACH;FMTTYPE=image/jpeg:https://gestalt-perm.ru/wp-content/uploads/2021/09/seksualnost-e1631260038512.jpg
ORGANIZER;CN="%D0%94%D0%B5%D0%BD%D0%B8%D1%81%D0%BE%D0%B2%D0%B0%20%D0%9D%D0%B0%D1%82%D0%B0%D0%BB%D1%8C%D1%8F":MAILTO:geshtaltperm@gmail.com
END:VEVENT
END:VCALENDAR